BEGIN:VCALENDAR
VERSION:2.0
PRODID:-//wp-events-plugin.com//6.6.1//EN
BEGIN:VEVENT
UID:49@gesangverein-weisskirchen.de
DTSTART:20250923T203000Z
DTEND:20250923T220000Z
DTSTAMP:20250903T213718Z
URL:https://www.gesangverein-weisskirchen.de/?event=ab-in-den-chor-offene-
 probe-maennerchor
SUMMARY:Ab in den Chor! Offene Probe Männerchor Männersache
DESCRIPTION:Im Rahmen der der bundesweit stattfindenden „Woche der offene
 n Chöre“ des Deutschen Chorverbands laden wir zu einer Schnupperprobe z
 um Männerchor Männersache&nbsp\;unter der Leitung von Peer-Martin Sturm 
 ein:\n\nam Dienstag\, den 23.09.2025 um 20:30 Uhr\n1.Stock des Feuerwehrha
 us Oberursel-Weißkirchen\nFriedrich-Ludwig-Jahn-Str. 2a\n\nVom 22. bis 28
 . September 2025 öffnen Chöre und Vokalensembles in ganz Deutschland wie
 der allen Interessierten die Türen zu ihren Proben. Mit dieser Aktion sol
 l neuen Mitsängerinnen und -sängern die Gelegenheit geboten werden\, unk
 ompliziert musikalisch Kontakt zu knüpfen.\n\nWir freuen uns auf interess
 ierte Männer!\n\n&nbsp\;&nbsp\;&nbsp\;&nbsp\;&nbsp\; 
LOCATION:Feuerwehrhaus Weißkirchen Saal 1. OG\, Friedrich-Ludwig-Jahn-Str.
  2a\, Oberursel-Weißkirchen\, Hessen\, 61440\, Deutschland
X-APPLE-STRUCTURED-LOCATION;VALUE=URI;X-ADDRESS=Friedrich-Ludwig-Jahn-Str. 
 2a\, Oberursel-Weißkirchen\, Hessen\, 61440\, Deutschland;X-APPLE-RADIUS=
 100;X-TITLE=Feuerwehrhaus Weißkirchen Saal 1. OG:geo:0,0
END:VEVENT
END:VCALENDAR