BEGIN:VCALENDAR
VERSION:2.0
PRODID:-//wp-events-plugin.com//6.6.1//EN
BEGIN:VEVENT
UID:25@gesangverein-weisskirchen.de
DTSTART;VALUE=DATE:20250529
DTEND;VALUE=DATE:20250602
DTSTAMP:20250527T211438Z
URL:https://www.gesangverein-weisskirchen.de/?event=deutsches-chorfest-202
 5-nuernberg
SUMMARY:Deutsches Chorfest 2025 Nürnberg
DESCRIPTION:Chorfest: Stimmen der Vielfalt - Deutsches Chorfest 2025 in Nü
 rnberg ...\n\n➔ Chorfest: Deutsches Chorfest 2025 in Nürnberg - Pop- un
 d Jazzchor Oberursel\n\nPop- und Jazzchor Oberursel\n\nChorleitung : Alexa
 ndra Ziegler-Liebst\nTageskonzert &nbsp\;|&nbsp\;30.05.2025\, 11:30 Uhr - 
 11:50 Uhr&nbsp\; | Künstlerhaus\, Festsaal\n\nTageskonzert &nbsp\;|&nbsp\
 ;31.05.2025\, 14:30 Uhr - 14:50 Uhr &nbsp\;|&nbsp\;Theater Pfütze\n&nbsp\
 ;
LOCATION:https://www.chorfest.de/
END:VEVENT
END:VCALENDAR