BEGIN:VCALENDAR
VERSION:2.0
PRODID:-//wp-events-plugin.com//6.6.1//EN
BEGIN:VEVENT
UID:1@gesangverein-weisskirchen.de
DTSTART:20230514T140000Z
DTEND:20230514T180000Z
DTSTAMP:20230513T100919Z
URL:https://www.gesangverein-weisskirchen.de/?event=fruehlingsfest
SUMMARY:Frühlingsfest
DESCRIPTION:Über den Nachmittag verteilt werden alle Chöre des Gesangvere
 ins Germania Weißkirchen in der Turnhalle Weißkirchen auftreten.\n\nAuch
  für das leibliche Wohl ist mit Kaffee und Kuchen und Deftigem gesorgt.\n
 \nVerbringen Sie am 14.5. einen fröhlichen Frühlingstag mit den Chören 
 des Gesangvereins Germania Weißkirchen und feiern Sie mit uns.\n\n
LOCATION:TV Turnhalle Weißkirchen\, Oberurseler Str. 16\, Oberursel\, 6144
 0\, Deutschland
X-APPLE-STRUCTURED-LOCATION;VALUE=URI;X-ADDRESS=Oberurseler Str. 16\, Oberu
 rsel\, 61440\, Deutschland;X-APPLE-RADIUS=100;X-TITLE=TV Turnhalle Weißki
 rchen:geo:0,0
END:VEVENT
END:VCALENDAR