BEGIN:VCALENDAR
VERSION:2.0
PRODID:-//wp-events-plugin.com//6.6.1//EN
BEGIN:VEVENT
UID:5@gesangverein-weisskirchen.de
DTSTART:20230910T150000Z
DTEND:20230910T150000Z
DTSTAMP:20230604T211040Z
URL:https://www.gesangverein-weisskirchen.de/?event=kinderchoere-auf-der-k
 erb
SUMMARY:Kinderchöre auf der Kerb
DESCRIPTION:Am 10.9. ist der Auftritt des Kinderchores und der Zaunkönige 
 auf der Bühne auf der Bleiche\num 15.00 Uhr bei der Kerb.\n \nWir treffen
  uns um 14:15 Uhr am Brunnen neben dem Feuerwehrhaus.
LOCATION:Kerb Weißkirchen\, Auf der Bleiche\, Oberursel - Weißkirchen\, 6
 1440\, Deutschland
X-APPLE-STRUCTURED-LOCATION;VALUE=URI;X-ADDRESS=Auf der Bleiche\, Oberursel
  - Weißkirchen\, 61440\, Deutschland;X-APPLE-RADIUS=100;X-TITLE=Kerb Wei
 ßkirchen:geo:0,0
END:VEVENT
END:VCALENDAR