BEGIN:VCALENDAR
VERSION:2.0
PRODID:-//wp-events-plugin.com//6.6.1//EN
BEGIN:VEVENT
UID:39@gesangverein-weisskirchen.de
DTSTART:20250531T143000Z
DTEND:20250531T143000Z
DTSTAMP:20250527T212103Z
URL:https://www.gesangverein-weisskirchen.de/?event=pjo-auf-dem-deutschen-
 chorfest-2025-nuernberg-2
SUMMARY:PJO auf dem Deutschen Chorfest 2025 Nürnberg
DESCRIPTION:Auftritt Pop- und Jazzchor Oberursel im Theater Pfütze\n\nChor
 leitung : Alexandra Ziegler-Liebst\n\nTheater &amp\; Musiktheater für jun
 ges Publikum in Nürnberg - Theater Pfütze\n\nChorfest: Stimmen der Vielf
 alt - Deutsches Chorfest 2025 in Nürnberg ...
LOCATION:Theater Pfütze\, Äußerer Laufer Platz 22\, N\, 90403\, Deutschl
 and
X-APPLE-STRUCTURED-LOCATION;VALUE=URI;X-ADDRESS=Äußerer Laufer Platz 22\,
  N\, 90403\, Deutschland;X-APPLE-RADIUS=100;X-TITLE=Theater Pfütze:geo:0,
 0
END:VEVENT
END:VCALENDAR