BEGIN:VCALENDAR
VERSION:2.0
PRODID:-//wp-events-plugin.com//6.6.1//EN
BEGIN:VEVENT
UID:6@gesangverein-weisskirchen.de
DTSTART:20231209T190000Z
DTEND:20231209T190000Z
DTSTAMP:20231022T151735Z
URL:https://www.gesangverein-weisskirchen.de/?event=pop-weihnacht-konzert-
 des-pop-und-jazzchor-oberursel
SUMMARY:Freue dich! - Konzert des Pop- und Jazzchor Oberursel
DESCRIPTION:Freue dich ! Das besondere Adventskonzert mit dem Pop- und Jazz
 chor Oberursel\n\n\n\n&nbsp\;
LOCATION:Kreuzkirche Bommersheim\, Goldackerweg 17\, Oberursel\, Hessen\, 6
 1440\, Deutschland
X-APPLE-STRUCTURED-LOCATION;VALUE=URI;X-ADDRESS=Goldackerweg 17\, Oberursel
 \, Hessen\, 61440\, Deutschland;X-APPLE-RADIUS=100;X-TITLE=Kreuzkirche Bom
 mersheim:geo:0,0
END:VEVENT
END:VCALENDAR