BEGIN:VCALENDAR
VERSION:2.0
PRODID:-//wp-events-plugin.com//6.6.1//EN
BEGIN:VEVENT
UID:58@gesangverein-weisskirchen.de
DTSTART;VALUE=DATE:20261215
DTEND;VALUE=DATE:20261216
DTSTAMP:20260115T222026Z
URL:https://www.gesangverein-weisskirchen.de/?event=weihnachtsfeier-4
SUMMARY:Weihnachtsfeier
DESCRIPTION:
END:VEVENT
END:VCALENDAR